BEGIN:VCALENDAR
VERSION:2.0
PRODID:-//Explore Sidney Dev - ECPv6.15.20//NONSGML v1.0//EN
CALSCALE:GREGORIAN
METHOD:PUBLISH
X-ORIGINAL-URL:https://2024test2.magnoliasconsulting.com
X-WR-CALDESC:Events for Explore Sidney Dev
REFRESH-INTERVAL;VALUE=DURATION:PT1H
X-Robots-Tag:noindex
X-PUBLISHED-TTL:PT1H
BEGIN:VTIMEZONE
TZID:UTC
BEGIN:STANDARD
TZOFFSETFROM:+0000
TZOFFSETTO:+0000
TZNAME:UTC
DTSTART:20250101T000000
END:STANDARD
END:VTIMEZONE
BEGIN:VEVENT
DTSTART;VALUE=DATE:20260712
DTEND;VALUE=DATE:20260713
DTSTAMP:20260420T182027
CREATED:20260416T211050Z
LAST-MODIFIED:20260416T211050Z
UID:10000046-1783814400-1783900799@2024test2.magnoliasconsulting.com
SUMMARY:Summer Sounds Concert Series: Completely Creedence Band
DESCRIPTION:Completely Creedence Band is a dynamic tribute to the iconic American rock band Creedence Clearwater Revival (CCR). This talented group of musicians brings the classic hits and energy of CCR to audiences everywhere.  With a deep appreciation for the music and a commitment to delivering an authentic performance\, Completely Creedence Band captures the essence of CCR’s sound and spirit.
URL:https://2024test2.magnoliasconsulting.com/event/summer-sounds-concert-series-completely-creedence-band/
LOCATION:Beacon Park\, 9801 Seaport Place\, Sidney\, BC\, V8L 4X3\, Canada
CATEGORIES:Live Music & Entertainment
ORGANIZER;CN="Peninsula Celebrations Society":MAILTO:info@peninsulacelebrations.ca
END:VEVENT
END:VCALENDAR